BEGIN:VCALENDAR
PRODID:-//eluceo/ical//2.0/EN
VERSION:2.0
CALSCALE:GREGORIAN
BEGIN:VEVENT
UID:944e8c435e2cb0b3ef787cd4ba09c1bb
DTSTAMP:20260423T033124Z
SUMMARY:[männliche C-Jugend Runde] CVJM Enzweihingen  - CVJM Fellbach 
URL:https://www.eichenkreuzliga.de/handball/game/id/12828
DTSTART:20210227T140000
DTEND:20210227T150000
LOCATION:Schulsporthalle\, 71665 Enzweihingen
END:VEVENT
END:VCALENDAR
