BEGIN:VCALENDAR
PRODID:-//eluceo/ical//2.0/EN
VERSION:2.0
CALSCALE:GREGORIAN
BEGIN:VEVENT
UID:4aba4e8ed8484c26e63884df0ed50184
DTSTAMP:20260423T034632Z
SUMMARY:[männliche C-Jugend Runde] EJW Münchingen  - CVJM Fellbach 
URL:https://www.eichenkreuzliga.de/handball/game/id/12829
DTSTART:20210425T150000
DTEND:20210425T160000
LOCATION:Sporthalle Münchingen\, 70825 Korntal-Münchingen
END:VEVENT
END:VCALENDAR
