BEGIN:VCALENDAR
PRODID:-//eluceo/ical//2.0/EN
VERSION:2.0
CALSCALE:GREGORIAN
BEGIN:VEVENT
UID:6beeb6a9f59d82b0fb1da0f36ec28f36
DTSTAMP:20260423T051117Z
SUMMARY:[männliche C-Jugend Runde] CVJM Untertürkheim  - CVJM  Walddorfh
 äslach 
URL:https://www.eichenkreuzliga.de/handball/game/id/12830
DTSTART:20210130T140000
DTEND:20210130T150000
LOCATION:Lindenschul-Sporthalle Untertürkheim\, 70327 Untertürkheim
END:VEVENT
END:VCALENDAR
