BEGIN:VCALENDAR
PRODID:-//eluceo/ical//2.0/EN
VERSION:2.0
CALSCALE:GREGORIAN
BEGIN:VEVENT
UID:8f1d85d76aa08079bd1207bf66345c84
DTSTAMP:20260423T051030Z
SUMMARY:[männliche C-Jugend Runde] EK Köngen  - CVJM Untertürkheim 
URL:https://www.eichenkreuzliga.de/handball/game/id/12833
DTSTART:20210313T130000
DTEND:20210313T140000
LOCATION:Burgschulhalle\, 73257 Köngen
END:VEVENT
END:VCALENDAR
