BEGIN:VCALENDAR
PRODID:-//eluceo/ical//2.0/EN
VERSION:2.0
CALSCALE:GREGORIAN
BEGIN:VEVENT
UID:59dc9eec346cd799fba033285b541476
DTSTAMP:20260423T051117Z
SUMMARY:[männliche C-Jugend Runde] EK Höfingen  - CVJM Untertürkheim 
URL:https://www.eichenkreuzliga.de/handball/game/id/12834
DTSTART:20210227T140000
DTEND:20210227T150000
LOCATION:Strohgäuhalle\, 71229 Höfingen
END:VEVENT
END:VCALENDAR
