BEGIN:VCALENDAR
PRODID:-//eluceo/ical//2.0/EN
VERSION:2.0
CALSCALE:GREGORIAN
BEGIN:VEVENT
UID:ad10286817efbefaf76a707482d4213e
DTSTAMP:20260423T051117Z
SUMMARY:[männliche C-Jugend Runde] EK Bernhausen  - CVJM Hagelloch 
URL:https://www.eichenkreuzliga.de/handball/game/id/12836
DTSTART:20210123T130000
DTEND:20210123T140000
LOCATION:Elisabeth-Selbert-Gymnasium Halle\, 70794 Bernhausen
END:VEVENT
END:VCALENDAR
