BEGIN:VCALENDAR
PRODID:-//eluceo/ical//2.0/EN
VERSION:2.0
CALSCALE:GREGORIAN
BEGIN:VEVENT
UID:6c93bb78f9e8adcacd89082840b8cffc
DTSTAMP:20260423T050540Z
SUMMARY:[männliche C-Jugend Runde] EK Bernhausen  - CVJM HB Dußlingen-Gom
 aringen 1
URL:https://www.eichenkreuzliga.de/handball/game/id/12840
DTSTART:20201114T140000
DTEND:20201114T150000
LOCATION:Elisabeth-Selbert-Gymnasium Halle\, 70794 Bernhausen
END:VEVENT
END:VCALENDAR
