BEGIN:VCALENDAR
PRODID:-//eluceo/ical//2.0/EN
VERSION:2.0
CALSCALE:GREGORIAN
BEGIN:VEVENT
UID:58bb4cdcc15ca34bec2a8254b250b016
DTSTAMP:20260423T033058Z
SUMMARY:[männliche C-Jugend Runde] EK Köngen  - EK Bernhausen 
URL:https://www.eichenkreuzliga.de/handball/game/id/12841
DTSTART:20210327T130000
DTEND:20210327T140000
LOCATION:Burgschulhalle\, 73257 Köngen
END:VEVENT
END:VCALENDAR
