BEGIN:VCALENDAR
PRODID:-//eluceo/ical//2.0/EN
VERSION:2.0
CALSCALE:GREGORIAN
BEGIN:VEVENT
UID:d0bea0cfff3a1930d4843d3f54044ff0
DTSTAMP:20260423T003307Z
SUMMARY:[männliche C-Jugend Runde] EK Bernhausen  - CVJM  Walddorfhäslach
  
URL:https://www.eichenkreuzliga.de/handball/game/id/12842
DTSTART:20210220T150000
DTEND:20210220T160000
LOCATION:Elisabeth-Selbert-Gymnasium Halle\, 70794 Bernhausen
END:VEVENT
END:VCALENDAR
