BEGIN:VCALENDAR
PRODID:-//eluceo/ical//2.0/EN
VERSION:2.0
CALSCALE:GREGORIAN
BEGIN:VEVENT
UID:dc4a8858f521f6f810e83478aab5c42e
DTSTAMP:20260423T034632Z
SUMMARY:[männliche C-Jugend Runde] CVJM HB Dußlingen-Gomaringen 1 - CVJM 
 Kirchentellinsfurt 
URL:https://www.eichenkreuzliga.de/handball/game/id/12846
DTSTART:20210306T143000
DTEND:20210306T153000
LOCATION:Hönisch Sporthalle\, 72144 Dusslingen
END:VEVENT
END:VCALENDAR
