BEGIN:VCALENDAR
PRODID:-//eluceo/ical//2.0/EN
VERSION:2.0
CALSCALE:GREGORIAN
BEGIN:VEVENT
UID:dccee576f57ba52cbb3182b37a9a610f
DTSTAMP:20260423T034632Z
SUMMARY:[männliche C-Jugend Runde] EK Höfingen  - CVJM HB Dußlingen-Goma
 ringen 1
URL:https://www.eichenkreuzliga.de/handball/game/id/12848
DTSTART:20210417T133000
DTEND:20210417T143000
LOCATION:Strohgäuhalle\, 71229 Höfingen
END:VEVENT
END:VCALENDAR
