BEGIN:VCALENDAR
PRODID:-//eluceo/ical//2.0/EN
VERSION:2.0
CALSCALE:GREGORIAN
BEGIN:VEVENT
UID:c19f23f59bfdc7b6796325f2d3e45ecd
DTSTAMP:20260423T033124Z
SUMMARY:[männliche C-Jugend Runde] CVJM Hagelloch  - EK Höfingen 
URL:https://www.eichenkreuzliga.de/handball/game/id/12849
DTSTART:20210314T143000
DTEND:20210314T153000
LOCATION:Sporthalle Waldhäuser-Ost\, 72076 Tübingen
END:VEVENT
END:VCALENDAR
