BEGIN:VCALENDAR
PRODID:-//eluceo/ical//2.0/EN
VERSION:2.0
CALSCALE:GREGORIAN
BEGIN:VEVENT
UID:7bbe7a485dadca205aa588bec3702b35
DTSTAMP:20260423T051305Z
SUMMARY:[männliche C-Jugend Runde] CVJM Hagelloch  - CVJM Kirchentellinsfu
 rt 
URL:https://www.eichenkreuzliga.de/handball/game/id/12851
DTSTART:20210320T141500
DTEND:20210320T151500
LOCATION:Sporthalle Waldhäuser-Ost\, 72076 Tübingen
END:VEVENT
END:VCALENDAR
