BEGIN:VCALENDAR
PRODID:-//eluceo/ical//2.0/EN
VERSION:2.0
CALSCALE:GREGORIAN
BEGIN:VEVENT
UID:69e648d03703192cd80dfa2187f56c3f
DTSTAMP:20260423T034621Z
SUMMARY:[männliche C-Jugend Runde] EJW Münchingen  - CVJM Hagelloch 
URL:https://www.eichenkreuzliga.de/handball/game/id/12852
DTSTART:20210418T170000
DTEND:20210418T180000
LOCATION:Sporthalle Münchingen\, 70825 Korntal-Münchingen
END:VEVENT
END:VCALENDAR
