BEGIN:VCALENDAR
PRODID:-//eluceo/ical//2.0/EN
VERSION:2.0
CALSCALE:GREGORIAN
BEGIN:VEVENT
UID:9a14e026fce7c5730b419a9a40504a3e
DTSTAMP:20260423T033215Z
SUMMARY:[männliche C-Jugend Runde] CVJM Enzweihingen  - EK Köngen 
URL:https://www.eichenkreuzliga.de/handball/game/id/12855
DTSTART:20210130T140000
DTEND:20210130T150000
LOCATION:Schulsporthalle\, 71665 Enzweihingen
END:VEVENT
END:VCALENDAR
