BEGIN:VCALENDAR
PRODID:-//eluceo/ical//2.0/EN
VERSION:2.0
CALSCALE:GREGORIAN
BEGIN:VEVENT
UID:000d965c61e1f80bf593608aafa4dcb7
DTSTAMP:20260423T034724Z
SUMMARY:[männliche C-Jugend Runde] CVJM HB Dußlingen-Gomaringen 1 - CVJM 
 Enzweihingen 
URL:https://www.eichenkreuzliga.de/handball/game/id/12856
DTSTART:20210424T120000
DTEND:20210424T130000
LOCATION:Hönisch Sporthalle\, 72144 Dusslingen
END:VEVENT
END:VCALENDAR
