BEGIN:VCALENDAR
PRODID:-//eluceo/ical//2.0/EN
VERSION:2.0
CALSCALE:GREGORIAN
BEGIN:VEVENT
UID:faea87212f3c77658bf7e3d5a8d4d814
DTSTAMP:20260423T034810Z
SUMMARY:[männliche C-Jugend Runde] CVJM  Walddorfhäslach  - CVJM Enzweihi
 ngen 
URL:https://www.eichenkreuzliga.de/handball/game/id/12857
DTSTART:20210123T133000
DTEND:20210123T143000
LOCATION:Ballspielhalle\, 72141 Walddorfhäslach
END:VEVENT
END:VCALENDAR
