BEGIN:VCALENDAR
PRODID:-//eluceo/ical//2.0/EN
VERSION:2.0
CALSCALE:GREGORIAN
BEGIN:VEVENT
UID:c9506f70ed21a5d82f4a15b8af962f56
DTSTAMP:20260423T034724Z
SUMMARY:[männliche C-Jugend Runde] CVJM Kusterdingen e.V.  - CVJM Enzweihi
 ngen 
URL:https://www.eichenkreuzliga.de/handball/game/id/12858
DTSTART:20210313T150000
DTEND:20210313T160000
LOCATION:Härtensporthalle\, 72127 Kusterdingen
END:VEVENT
END:VCALENDAR
