BEGIN:VCALENDAR
PRODID:-//eluceo/ical//2.0/EN
VERSION:2.0
CALSCALE:GREGORIAN
BEGIN:VEVENT
UID:796f063571ed75a1696c1c408c0fdd51
DTSTAMP:20260423T034914Z
SUMMARY:[männliche C-Jugend Runde] EK Köngen  - CVJM Hagelloch 
URL:https://www.eichenkreuzliga.de/handball/game/id/12859
DTSTART:20210425T130000
DTEND:20210425T140000
LOCATION:Burgschulhalle\, 73257 Köngen
END:VEVENT
END:VCALENDAR
