BEGIN:VCALENDAR
PRODID:-//eluceo/ical//2.0/EN
VERSION:2.0
CALSCALE:GREGORIAN
BEGIN:VEVENT
UID:da0c2a60855d5f778dc9623a7e615375
DTSTAMP:20260423T051158Z
SUMMARY:[männliche C-Jugend Runde] CVJM  Walddorfhäslach  - EK Höfingen 
URL:https://www.eichenkreuzliga.de/handball/game/id/12860
DTSTART:20210307T141500
DTEND:20210307T151500
LOCATION:Ballspielhalle\, 72141 Walddorfhäslach
END:VEVENT
END:VCALENDAR
