BEGIN:VCALENDAR
PRODID:-//eluceo/ical//2.0/EN
VERSION:2.0
CALSCALE:GREGORIAN
BEGIN:VEVENT
UID:5fa2cd261c8c2f54f62cffa992f59ed6
DTSTAMP:20260423T051014Z
SUMMARY:[männliche C-Jugend Runde] CVJM  Walddorfhäslach  - CVJM Kusterdi
 ngen e.V. 
URL:https://www.eichenkreuzliga.de/handball/game/id/12862
DTSTART:20210321T141500
DTEND:20210321T151500
LOCATION:Ballspielhalle\, 72141 Walddorfhäslach
END:VEVENT
END:VCALENDAR
