BEGIN:VCALENDAR
PRODID:-//eluceo/ical//2.0/EN
VERSION:2.0
CALSCALE:GREGORIAN
BEGIN:VEVENT
UID:3e1a05f48fb47f91fab6b691a7606c76
DTSTAMP:20260423T034539Z
SUMMARY:[männliche C-Jugend Runde] CVJM Enzweihingen  - EK Höfingen 
URL:https://www.eichenkreuzliga.de/handball/game/id/12865
DTSTART:20201024T160000
DTEND:20201024T170000
LOCATION:Schulsporthalle\, 71665 Enzweihingen
END:VEVENT
END:VCALENDAR
