BEGIN:VCALENDAR
PRODID:-//eluceo/ical//2.0/EN
VERSION:2.0
CALSCALE:GREGORIAN
BEGIN:VEVENT
UID:f8cd40c3ff3cb056f9d8ada5e6a12bc7
DTSTAMP:20260423T050502Z
SUMMARY:[männliche C-Jugend Runde] CVJM Kirchentellinsfurt  - EK Höfingen
  
URL:https://www.eichenkreuzliga.de/handball/game/id/12866
DTSTART:20210117T150000
DTEND:20210117T160000
LOCATION:Sporthalle\, 72138 Kirchentellinsfurt
END:VEVENT
END:VCALENDAR
