BEGIN:VCALENDAR
PRODID:-//eluceo/ical//2.0/EN
VERSION:2.0
CALSCALE:GREGORIAN
BEGIN:VEVENT
UID:e8056263d9766884847dcb9508f04348
DTSTAMP:20260423T051013Z
SUMMARY:[männliche C-Jugend Runde] CVJM Kirchentellinsfurt  - CVJM Kusterd
 ingen e.V. 
URL:https://www.eichenkreuzliga.de/handball/game/id/12867
DTSTART:20210214T140000
DTEND:20210214T150000
LOCATION:Sporthalle\, 72138 Kirchentellinsfurt
END:VEVENT
END:VCALENDAR
