BEGIN:VCALENDAR
PRODID:-//eluceo/ical//2.0/EN
VERSION:2.0
CALSCALE:GREGORIAN
BEGIN:VEVENT
UID:064f2b244db0816bcac469a561cbac4e
DTSTAMP:20260423T034718Z
SUMMARY:[männliche C-Jugend Runde] EJW Münchingen  - CVJM Kirchentellinsf
 urt 
URL:https://www.eichenkreuzliga.de/handball/game/id/12868
DTSTART:20210328T151500
DTEND:20210328T161500
LOCATION:Sporthalle Münchingen\, 70825 Korntal-Münchingen
END:VEVENT
END:VCALENDAR
