BEGIN:VCALENDAR
PRODID:-//eluceo/ical//2.0/EN
VERSION:2.0
CALSCALE:GREGORIAN
BEGIN:VEVENT
UID:a477e7476a3f1580a83ddd56106435ef
DTSTAMP:20260423T051117Z
SUMMARY:[männliche C-Jugend Runde] EK Köngen  - CVJM Kirchentellinsfurt 
URL:https://www.eichenkreuzliga.de/handball/game/id/12869
DTSTART:20210123T140000
DTEND:20210123T150000
LOCATION:Burgschulhalle\, 73257 Köngen
END:VEVENT
END:VCALENDAR
