BEGIN:VCALENDAR
PRODID:-//eluceo/ical//2.0/EN
VERSION:2.0
CALSCALE:GREGORIAN
BEGIN:VEVENT
UID:5af4bf3bbd9a18ed9e2d1c60ca03de4b
DTSTAMP:20260423T034539Z
SUMMARY:[männliche C-Jugend Runde] CVJM Kusterdingen e.V.  - EJW Münching
 en 
URL:https://www.eichenkreuzliga.de/handball/game/id/12872
DTSTART:20210130T140000
DTEND:20210130T150000
LOCATION:Härtensporthalle\, 72127 Kusterdingen
END:VEVENT
END:VCALENDAR
