BEGIN:VCALENDAR
PRODID:-//eluceo/ical//2.0/EN
VERSION:2.0
CALSCALE:GREGORIAN
BEGIN:VEVENT
UID:29c6540320ad11bdee6365bb06fe7b86
DTSTAMP:20260423T014839Z
SUMMARY:[männliche B-Jugend Runde] CVJM Flacht  - EJW Münchingen 
URL:https://www.eichenkreuzliga.de/handball/game/id/12882
DTSTART:20201107T153000
DTEND:20201107T163000
LOCATION:Sporthalle Flacht\, 71287 Weissach
END:VEVENT
END:VCALENDAR
