BEGIN:VCALENDAR
PRODID:-//eluceo/ical//2.0/EN
VERSION:2.0
CALSCALE:GREGORIAN
BEGIN:VEVENT
UID:48b7ddbbba426cb58922e7e10fd33ec9
DTSTAMP:20260423T033038Z
SUMMARY:[männliche B-Jugend Runde] CVJM Möglingen  - CVJM  Walddorfhäsla
 ch 
URL:https://www.eichenkreuzliga.de/handball/game/id/12883
DTSTART:20201107T163000
DTEND:20201107T173000
LOCATION:Stadionhalle\, 71696 Möglingen
END:VEVENT
END:VCALENDAR
