BEGIN:VCALENDAR
PRODID:-//eluceo/ical//2.0/EN
VERSION:2.0
CALSCALE:GREGORIAN
BEGIN:VEVENT
UID:0b08bdc25b9df0b0f2e92c07e81b7880
DTSTAMP:20260423T033350Z
SUMMARY:[männliche B-Jugend Runde] CVJM Hagelloch SG Hagelloch/Kusterdinge
 n - EK Köngen 
URL:https://www.eichenkreuzliga.de/handball/game/id/12886
DTSTART:20201129T141500
DTEND:20201129T151500
LOCATION:Kreissporthalle Tübingen\, 72072 Tübingen
END:VEVENT
END:VCALENDAR
