BEGIN:VCALENDAR
PRODID:-//eluceo/ical//2.0/EN
VERSION:2.0
CALSCALE:GREGORIAN
BEGIN:VEVENT
UID:97e5e405883e74de8ca2c45d9860c695
DTSTAMP:20260423T014839Z
SUMMARY:[männliche B-Jugend Runde] CVJM  Walddorfhäslach  - CVJM Flacht 
URL:https://www.eichenkreuzliga.de/handball/game/id/12890
DTSTART:20201213T180000
DTEND:20201213T190000
LOCATION:Ballspielhalle\, 72141 Walddorfhäslach
END:VEVENT
END:VCALENDAR
