BEGIN:VCALENDAR
PRODID:-//eluceo/ical//2.0/EN
VERSION:2.0
CALSCALE:GREGORIAN
BEGIN:VEVENT
UID:15ff85f1cc6e84a7b02bfc31514909ec
DTSTAMP:20260423T014550Z
SUMMARY:[männliche B-Jugend Runde] CVJM Enzweihingen  - EJW Münchingen 
URL:https://www.eichenkreuzliga.de/handball/game/id/12904
DTSTART:20210327T183000
DTEND:20210327T193000
LOCATION:Schulsporthalle\, 71665 Enzweihingen
END:VEVENT
END:VCALENDAR
