BEGIN:VCALENDAR
PRODID:-//eluceo/ical//2.0/EN
VERSION:2.0
CALSCALE:GREGORIAN
BEGIN:VEVENT
UID:d0b9afa14b35f54b04482aef51f45559
DTSTAMP:20260423T033037Z
SUMMARY:[männliche B-Jugend Runde] EK Köngen  - CVJM  Walddorfhäslach 
URL:https://www.eichenkreuzliga.de/handball/game/id/12917
DTSTART:20210207T150000
DTEND:20210207T160000
LOCATION:Burgschulhalle\, 73257 Köngen
END:VEVENT
END:VCALENDAR
