BEGIN:VCALENDAR
PRODID:-//eluceo/ical//2.0/EN
VERSION:2.0
CALSCALE:GREGORIAN
BEGIN:VEVENT
UID:09015fbcc2ffc6d9cfa7937b7123786f
DTSTAMP:20260423T014617Z
SUMMARY:[männliche B-Jugend Runde] CVJM Flacht  - CVJM Hagelloch SG Hagell
 och/Kusterdingen
URL:https://www.eichenkreuzliga.de/handball/game/id/12918
DTSTART:20210130T140000
DTEND:20210130T150000
LOCATION:Sporthalle Flacht\, 71287 Weissach
END:VEVENT
END:VCALENDAR
