BEGIN:VCALENDAR
PRODID:-//eluceo/ical//2.0/EN
VERSION:2.0
CALSCALE:GREGORIAN
BEGIN:VEVENT
UID:4cf245fbe88e157374028c4691e683f7
DTSTAMP:20260423T014724Z
SUMMARY:[männliche B-Jugend Runde] EK Köngen  - CVJM Möglingen 
URL:https://www.eichenkreuzliga.de/handball/game/id/12925
DTSTART:20210327T150000
DTEND:20210327T160000
LOCATION:Burgschulhalle\, 73257 Köngen
END:VEVENT
END:VCALENDAR
