BEGIN:VCALENDAR
PRODID:-//eluceo/ical//2.0/EN
VERSION:2.0
CALSCALE:GREGORIAN
BEGIN:VEVENT
UID:485798231cbbc1c10d31839320c7675f
DTSTAMP:20260423T033038Z
SUMMARY:[männliche B-Jugend Runde] CVJM HB Dußlingen-Gomaringen  - CVJM F
 lacht 
URL:https://www.eichenkreuzliga.de/handball/game/id/12926
DTSTART:20210328T151500
DTEND:20210328T161500
LOCATION:Hönisch Sporthalle\, 72144 Dusslingen
END:VEVENT
END:VCALENDAR
