BEGIN:VCALENDAR
PRODID:-//eluceo/ical//2.0/EN
VERSION:2.0
CALSCALE:GREGORIAN
BEGIN:VEVENT
UID:d345b558e0ad8387aa3ee8a48d6a8fa6
DTSTAMP:20260423T034539Z
SUMMARY:[männliche A-Jugend Runde] EK Bernhausen  - EK Köngen 
URL:https://www.eichenkreuzliga.de/handball/game/id/12941
DTSTART:20201121T180000
DTEND:20201121T190000
LOCATION:Elisabeth-Selbert-Gymnasium Halle\, 70794 Bernhausen
END:VEVENT
END:VCALENDAR
