BEGIN:VCALENDAR
PRODID:-//eluceo/ical//2.0/EN
VERSION:2.0
CALSCALE:GREGORIAN
BEGIN:VEVENT
UID:97f215e0626c9ce3cbdfba903d021a96
DTSTAMP:20260423T034436Z
SUMMARY:[männliche A-Jugend Runde] CVJM HB Dußlingen-Gomaringen  - EK Ber
 nhausen 
URL:https://www.eichenkreuzliga.de/handball/game/id/12946
DTSTART:20201205T160000
DTEND:20201205T170000
LOCATION:Hönisch Sporthalle\, 72144 Dusslingen
END:VEVENT
END:VCALENDAR
