BEGIN:VCALENDAR
PRODID:-//eluceo/ical//2.0/EN
VERSION:2.0
CALSCALE:GREGORIAN
BEGIN:VEVENT
UID:e68e6a07320edb4195e6e81bb13dba1d
DTSTAMP:20260423T052514Z
SUMMARY:[männliche A-Jugend Runde] CVJM HB Dußlingen-Gomaringen  - CVJM F
 ellbach 
URL:https://www.eichenkreuzliga.de/handball/game/id/12956
DTSTART:20210313T183000
DTEND:20210313T193000
LOCATION:Hönisch Sporthalle\, 72144 Dusslingen
END:VEVENT
END:VCALENDAR
