BEGIN:VCALENDAR
PRODID:-//eluceo/ical//2.0/EN
VERSION:2.0
CALSCALE:GREGORIAN
BEGIN:VEVENT
UID:eafdece0e8eae325c3cd7e4173b11b36
DTSTAMP:20260423T033037Z
SUMMARY:[männliche A-Jugend Runde] EK Köngen  - EK Höfingen 
URL:https://www.eichenkreuzliga.de/handball/game/id/12966
DTSTART:20201107T160000
DTEND:20201107T170000
LOCATION:Burgschulhalle\, 73257 Köngen
END:VEVENT
END:VCALENDAR
