BEGIN:VCALENDAR
PRODID:-//eluceo/ical//2.0/EN
VERSION:2.0
CALSCALE:GREGORIAN
BEGIN:VEVENT
UID:1c8ef22a3f5ffba0ae294fb01d7e3da7
DTSTAMP:20260423T052329Z
SUMMARY:[männliche A-Jugend Runde] CVJM Fellbach  - EK Köngen 
URL:https://www.eichenkreuzliga.de/handball/game/id/12968
DTSTART:20201219T140000
DTEND:20201219T150000
LOCATION:Zeppelinhalle\, 70734 Fellbach
END:VEVENT
END:VCALENDAR
