BEGIN:VCALENDAR
PRODID:-//eluceo/ical//2.0/EN
VERSION:2.0
CALSCALE:GREGORIAN
BEGIN:VEVENT
UID:5cb6166005ca76296ffb7ed610c24bf1
DTSTAMP:20260423T034458Z
SUMMARY:[männliche A-Jugend Runde] CVJM Fellbach  - CVJM HB Dußlingen-Gom
 aringen 
URL:https://www.eichenkreuzliga.de/handball/game/id/12970
DTSTART:20210213T140000
DTEND:20210213T150000
LOCATION:Zeppelinhalle\, 70734 Fellbach
END:VEVENT
END:VCALENDAR
