BEGIN:VCALENDAR
PRODID:-//eluceo/ical//2.0/EN
VERSION:2.0
CALSCALE:GREGORIAN
BEGIN:VEVENT
UID:6238ac0fbf978ab7dfe1c24d3bce3380
DTSTAMP:20260423T052405Z
SUMMARY:[männliche A-Jugend Runde] EK Höfingen  - CVJM Fellbach 
URL:https://www.eichenkreuzliga.de/handball/game/id/12987
DTSTART:20210417T153000
DTEND:20210417T163000
LOCATION:Strohgäuhalle\, 71229 Höfingen
END:VEVENT
END:VCALENDAR
