BEGIN:VCALENDAR
PRODID:-//eluceo/ical//2.0/EN
VERSION:2.0
CALSCALE:GREGORIAN
BEGIN:VEVENT
UID:1319b588392f5314152228ba3ef6ea17
DTSTAMP:20260423T033215Z
SUMMARY:[männliche A-Jugend Runde] EK Bernhausen  - CVJM Fellbach 
URL:https://www.eichenkreuzliga.de/handball/game/id/12989
DTSTART:20210123T170000
DTEND:20210123T180000
LOCATION:Elisabeth-Selbert-Gymnasium Halle\, 70794 Bernhausen
END:VEVENT
END:VCALENDAR
