BEGIN:VCALENDAR
PRODID:-//eluceo/ical//2.0/EN
VERSION:2.0
CALSCALE:GREGORIAN
BEGIN:VEVENT
UID:6fefb3e5391470cb4822413228205abe
DTSTAMP:20260423T034457Z
SUMMARY:[männliche A-Jugend Runde] CVJM  Walddorfhäslach  - CVJM Fellbach
  
URL:https://www.eichenkreuzliga.de/handball/game/id/12993
DTSTART:20210307T160000
DTEND:20210307T170000
LOCATION:Ballspielhalle\, 72141 Walddorfhäslach
END:VEVENT
END:VCALENDAR
