BEGIN:VCALENDAR
PRODID:-//eluceo/ical//2.0/EN
VERSION:2.0
CALSCALE:GREGORIAN
BEGIN:VEVENT
UID:93363bc5d2afa2a946bd16696c564cc7
DTSTAMP:20260423T003219Z
SUMMARY:[männliche A-Jugend Runde] CVJM Fellbach  - CVJM  Walddorfhäslach
  
URL:https://www.eichenkreuzliga.de/handball/game/id/12994
DTSTART:20210131T183000
DTEND:20210131T193000
LOCATION:Zeppelinhalle\, 70734 Fellbach
END:VEVENT
END:VCALENDAR
