BEGIN:VCALENDAR
PRODID:-//eluceo/ical//2.0/EN
VERSION:2.0
CALSCALE:GREGORIAN
BEGIN:VEVENT
UID:9d892b8531930c5b292056ec52c69ad1
DTSTAMP:20260423T034539Z
SUMMARY:[Männer Landesliga] CVJM Möglingen  - EK Köngen 
URL:https://www.eichenkreuzliga.de/handball/game/id/13016
DTSTART:20210501T180000
DTEND:20210501T190000
LOCATION:Stadionhalle\, 71696 Möglingen
END:VEVENT
END:VCALENDAR
