BEGIN:VCALENDAR
PRODID:-//eluceo/ical//2.0/EN
VERSION:2.0
CALSCALE:GREGORIAN
BEGIN:VEVENT
UID:74b9a04d96632c465654fb69df45bdd1
DTSTAMP:20260423T034632Z
SUMMARY:[Männer LK4] SG Grunbach Winterbach  - CVJM SG Mössingen/Belsen 1
 c
URL:https://www.eichenkreuzliga.de/handball/game/id/13028
DTSTART:20210124T160000
DTEND:20210124T170000
LOCATION:Jahnhalle\, 73630 Grunbach
END:VEVENT
END:VCALENDAR
