BEGIN:VCALENDAR
PRODID:-//eluceo/ical//2.0/EN
VERSION:2.0
CALSCALE:GREGORIAN
BEGIN:VEVENT
UID:ce853d18b2bce79c4a9534915910b242
DTSTAMP:20260423T052405Z
SUMMARY:[Männer LK4] CVJM Fellbach  - CVJM HB Dußlingen-Gomaringen 2
URL:https://www.eichenkreuzliga.de/handball/game/id/13035
DTSTART:20201219T160000
DTEND:20201219T170000
LOCATION:Zeppelinhalle\, 70734 Fellbach
END:VEVENT
END:VCALENDAR
