BEGIN:VCALENDAR
PRODID:-//eluceo/ical//2.0/EN
VERSION:2.0
CALSCALE:GREGORIAN
BEGIN:VEVENT
UID:cea41d7441672eeb995330c80a8d5968
DTSTAMP:20260423T035016Z
SUMMARY:[Männer Landesliga] CVJM SG Mössingen/Belsen  - EK Höfingen 
URL:https://www.eichenkreuzliga.de/handball/game/id/13056
DTSTART:20210424T180000
DTEND:20210424T190000
LOCATION:Jahnhalle 2\, 72116 Mössingen
END:VEVENT
END:VCALENDAR
